BEGIN:VCALENDAR
VERSION:2.0
PRODID:-//CiviCRM//NONSGML CiviEvent iCal//EN
X-WR-TIMEZONE:America/Toronto
METHOD:PUBLISH
BEGIN:VTIMEZONE
TZID:America/Toronto
BEGIN:DAYLIGHT
TZOFFSETFROM:-0400
TZOFFSETTO:-0400
TZNAME:EDT
DTSTART:20260423T153000
END:DAYLIGHT
END:VTIMEZONE
BEGIN:VEVENT
UID:CiviCRM_EventID_26_07a608a77024643da3dc6fc90de062f2@www.masadvise.org
SUMMARY:Thinking about Planning - strategic and operationa
 l - Workshop - Spring 2026
X-ALT-DESC;FMTTYPE=text/html:<!DOCTYPE HTML PUBLIC
  "-//W3C//DTD HTML 3.2//EN"><html><body><p><span s
 tyle="font-size:11pt\;"><span style="line-height:1
 07%\;"><span style="font-family:Aptos\, sans-serif
 \;">Not a day goes by in any charity or not-for-pr
 ofit when some decision making\, planning\, and pl
 an implementation doesn’t happen. But when we talk
  about planning in our sector mostly we refer to “
 Strategic Plans”. This presentation will cover two
  key areas of NFP management and/or governance: fi
 rst\, thinking more strategically about strategic 
 planning (!) and second\, reviewing some key eleme
 nts of planning process in general.</span></span><
 /span></p>\n \n <p><span style="font-size:11pt\;">
 <span style="line-height:107%\;"><span style="font
 -family:Aptos\, sans-serif\;">This is an in-person
  session led by our Executive Director and present
 er extraordinaire\, Paddy Bowen.  Please click <a 
 href="https://masadvise.sharepoint.com/:w:/s/MASCo
 ordinator/IQAmnA8Oo6MYQZihwKuuHzuHAbvrLAH1xMZanxFU
 NUZh2iM?e=pUyYEs">here</a> to see Paddy’s bio.</sp
 an></span></span></p></body></html>
DESCRIPTION:Not a day goes by in any charity or not-for-profit
  when some decision making\, planning\, and plan i
 mplementation doesn’t happen. But when we talk abo
 ut planning in our sector mostly we refer to “Stra
 tegic Plans”. This presentation will cover two key
  areas of NFP management and/or governance: first\
 , thinking more strategically about strategic plan
 ning (!) and second\, reviewing some key elements 
 of planning process in general.\n \n \n \n This is
  an in-person session led by our Executive Directo
 r and presenter extraordinaire\, Paddy Bowen.  Ple
 ase click here (https://masadvise.sharepoint.com/:
 w:/s/MASCoordinator/IQAmnA8Oo6MYQZihwKuuHzuHAbvrLA
 H1xMZanxFUNUZh2iM?e=pUyYEs) to see Paddy’s bio.\n 
 \n 
CATEGORIES:Workshop
CALSCALE:GREGORIAN
DTSTAMP;TZID=America/Toronto:20260423T153000
DTSTART;TZID=America/Toronto:20260423T153000
DTEND;TZID=America/Toronto:20260423T180000
LOCATION:227 Bloor Street East (St. Paul's Bloor Street)\n 
 Toronto\, ON M4W 1C8\n Canada\n 
URL:https://www.masadvise.org/civicrm/event/info/?reset=1&id=26
END:VEVENT
END:VCALENDAR
