BEGIN:VCALENDAR
VERSION:2.0
PRODID:-//CiviCRM//NONSGML CiviEvent iCal//EN
X-WR-TIMEZONE:America/Toronto
METHOD:PUBLISH
BEGIN:VTIMEZONE
TZID:America/Toronto
BEGIN:DAYLIGHT
TZOFFSETFROM:-0400
TZOFFSETTO:-0400
TZNAME:EDT
DTSTART:20260507T153000
END:DAYLIGHT
END:VTIMEZONE
BEGIN:VEVENT
UID:CiviCRM_EventID_27_07a608a77024643da3dc6fc90de062f2@www.masadvise.org
SUMMARY:Fundraising Basics - Workshop - Spring 2026
X-ALT-DESC;FMTTYPE=text/html:<!DOCTYPE HTML PUBLIC
  "-//W3C//DTD HTML 3.2//EN"><html><body><p style="
 margin-bottom:11px\;"><span style="font-size:11pt\
 ;"><span style="line-height:107%\;"><span style="f
 ont-family:Aptos\, sans-serif\;"><span style="font
 -size:12pt\;"><span style="line-height:107%\;">The
  majority of charities and not-for-profit organiza
 tions started out as labours of love with little t
 o no money and a small group of people committed t
 o a cause. Some stay in that mode\, others have gr
 own based on a variety of factors including their 
 ability to generate funds. Thinking through how mu
 ch funding do we truly need</span></span></span></
 span></span><span style="font-size:11pt\;"><span s
 tyle="line-height:107%\;"><span style="font-family
 :Aptos\, sans-serif\;"><span style="font-size:12pt
 \;"><span style="line-height:107%\;">\, where and 
 how funding can be found and grappling with questi
 ons of how much is enough\, will be discussed in t
 his workshop. Please note the session will not pro
 vide step by step fund development tactits but rat
 her an oppertunity to "think through" the ways you
 r organization can be funded and the challenges of
  adapting to gains or losses in funding amounts.</
 span></span></span></span></span></p>\n \n <p styl
 e="margin-bottom:11px\;"><span style="font-size:11
 pt\;"><span style="line-height:107%\;"><span style
 ="font-family:Aptos\, sans-serif\;"><span style="f
 ont-size:12pt\;"><span style="line-height:107%\;">
 This is an in-person session led by our Executive 
 Director and presenter extraordinaire\, Paddy Bowe
 n. Please click <a href="https://masadvise.sharepo
 int.com/:w:/s/MASCoordinator/IQAmnA8Oo6MYQZihwKuuH
 zuHAbvrLAH1xMZanxFUNUZh2iM?e=pUyYEs">here</a> to s
 ee Paddy’s bio.</span></span></span></span></span>
 </p>\n \n <p style="margin-bottom:11px\;"> </p></b
 ody></html>
DESCRIPTION:The majority of charities and not-for-profit organ
 izations started out as labours of love with littl
 e to no money and a small group of people committe
 d to a cause. Some stay in that mode\, others have
  grown based on a variety of factors including the
 ir ability to generate funds. Thinking through how
  much funding do we truly need\, where and how fun
 ding can be found and grappling with questions of 
 how much is enough\, will be discussed in this wor
 kshop. Please note the session will not provide st
 ep by step fund development tactits but rather an 
 oppertunity to "think through" the ways your organ
 ization can be funded and the challenges of adapti
 ng to gains or losses in funding amounts.\n \n \n 
 \n This is an in-person session led by our Executi
 ve Director and presenter extraordinaire\, Paddy B
 owen. Please click here (https://masadvise.sharepo
 int.com/:w:/s/MASCoordinator/IQAmnA8Oo6MYQZihwKuuH
 zuHAbvrLAH1xMZanxFUNUZh2iM?e=pUyYEs) to see Paddy’
 s bio.\n \n \n \n  \n \n 
CATEGORIES:Workshop
CALSCALE:GREGORIAN
DTSTAMP;TZID=America/Toronto:20260507T153000
DTSTART;TZID=America/Toronto:20260507T153000
DTEND;TZID=America/Toronto:20260507T180000
LOCATION:227 Bloor Street East (St. Paul's Bloor Street)\n 
 Toronto\, ON M4W 1C8\n Canada\n 
URL:https://www.masadvise.org/civicrm/event/info/?reset=1&id=27
END:VEVENT
END:VCALENDAR
