BEGIN:VCALENDAR
VERSION:2.0
PRODID:-//CiviCRM//NONSGML CiviEvent iCal//EN
X-WR-TIMEZONE:America/Toronto
METHOD:PUBLISH
BEGIN:VTIMEZONE
TZID:America/Toronto
BEGIN:DAYLIGHT
TZOFFSETFROM:-0400
TZOFFSETTO:-0400
TZNAME:EDT
DTSTART:20260521T153000
END:DAYLIGHT
END:VTIMEZONE
BEGIN:VEVENT
UID:CiviCRM_EventID_28_07a608a77024643da3dc6fc90de062f2@www.masadvise.org
SUMMARY:Non-profit Marketing and Communications through a 
 Diversity Lens - Workshop - Spring 2026
X-ALT-DESC;FMTTYPE=text/html:<!DOCTYPE HTML PUBLIC
  "-//W3C//DTD HTML 3.2//EN"><html><body><p style="
 margin-bottom:11px\;"><font face="Aptos\, sans-ser
 if"><span style="font-size:16px\;">Developed and d
 elivered by Mercedes Blackwood (Black Coffee Commu
 nications) who specializes in unearthing your uniq
 ue story and voices and including a diversity lens
  in considering message and audience. Mercedes has
  had an over 10-year career in media with Canada's
  largest media networks - Bell Media and Rogers Te
 levision</span></font></p>\n \n <p style="margin-b
 ottom:11px\;"> </p></body></html>
DESCRIPTION:Developed and delivered by Mercedes Blackwood (Bla
 ck Coffee Communications) who specializes in unear
 thing your unique story and voices and including a
  diversity lens in considering message and audienc
 e. Mercedes has had an over 10-year career in medi
 a with Canada's largest media networks - Bell Medi
 a and Rogers Television\n \n \n \n  \n \n 
CATEGORIES:Workshop
CALSCALE:GREGORIAN
DTSTAMP;TZID=America/Toronto:20260521T153000
DTSTART;TZID=America/Toronto:20260521T153000
DTEND;TZID=America/Toronto:20260521T180000
LOCATION:227 Bloor Street East (St. Paul's Bloor Street)\n 
 Toronto\, ON M4W 1C8\n Canada\n 
URL:https://www.masadvise.org/civicrm/event/info/?reset=1&id=28
END:VEVENT
END:VCALENDAR
