BEGIN:VCALENDAR
VERSION:2.0
PRODID:-//CiviCRM//NONSGML CiviEvent iCal//EN
X-WR-TIMEZONE:America/Toronto
METHOD:PUBLISH
BEGIN:VTIMEZONE
TZID:America/Toronto
BEGIN:DAYLIGHT
TZOFFSETFROM:-0400
TZOFFSETTO:-0400
TZNAME:EDT
DTSTART:20260604T153000
END:DAYLIGHT
END:VTIMEZONE
BEGIN:VEVENT
UID:CiviCRM_EventID_30_07a608a77024643da3dc6fc90de062f2@www.masadvise.org
SUMMARY:Practical use of AI for Nonprofits - Workshop - Sp
 ring 2026
X-ALT-DESC;FMTTYPE=text/html:<!DOCTYPE HTML PUBLIC
  "-//W3C//DTD HTML 3.2//EN"><html><body><h2>About 
 This Workshop</h2>\n \n <p>Our <a href="https://ww
 w.masadvise.org/services-finance-and-info-tech/#ai
 ">AI for Nonprofits webinar</a> showed you what's 
 possible. This workshop is where you put it into p
 ractice. Join Management Advisory Services for a h
 ands-on afternoon session with MAS consultants and
  fellow nonprofit practitioners — sharing what's w
 orking\, what's not\, and experimenting together w
 ith AI tools in real nonprofit contexts.</p>\n \n 
 <p>This is an interactive\, participatory session.
  Come ready to share your own experience and leave
  with practical techniques you can use immediately
 .  Bring a laptop or your phone so you can try som
 e prompts and tools and get some hands on exprienc
 e.   If you want to share documents like strategic
  plans\, make sure your device has access.</p>\n \
 n <h2>Workshop Agenda</h2>\n \n <h3>AI in Strategi
 c Planning and Fundraising</h3>\n \n <p><strong>Pr
 esenter: Sue Pulfer\, MAS Consultant</strong></p>\
 n \n <p>Sue shares how she's integrating AI into s
 trategic planning and fundraising projects — with 
 live examples and hands-on exercises participants 
 can try with their own work.</p>\n \n <ul>\n 	<li>
 AI-assisted SWOT analysis and environmental scanni
 ng</li>\n 	<li>Drafting strategic plans and operat
 ional plans with AI support</li>\n 	<li>Hands-on e
 xercise: bring a planning challenge and work throu
 gh it with AI</li>\n </ul>\n \n <h3>AI in Fundrais
 ing and Internal Operations</h3>\n \n <p><strong>P
 resenter: Brian Flett\, MAS Consultant</strong></p
 >\n \n <p>Brian walks through how he has gone beyo
 nd just chatting with AI\, and has started to buil
 d AI Agents for doing background tasks like survey
 ing the internet for updates about prospective don
 ors\, creating a daily summary of tasks\, meetings
 \, and news items\, and creating a weekly review o
 f courses and youtube videos that can help in keep
 ing up with the latest trends.</p>\n \n <ul>\n 	<l
 i>Adding tools to give AI access to calendars\, em
 ails\, etc</li>\n 	<li>Adding skills to tell AI ho
 w to do complex repeatable tasks</li>\n 	<li>Creat
 ing background jobs so AI can work autonomously</l
 i>\n </ul>\n \n <h3>Peer Sharing: What Are You Usi
 ng AI For?</h3>\n \n <p>A facilitated discussion w
 here participants share their own AI experiments —
  what they've tried\, what surprised them\, and wh
 ere they're stuck.</p>\n \n <h3>Wrap-Up: What We'r
 e Learning as a Sector</h3>\n \n <p>Key takeaways\
 , emerging patterns\, and a look at where AI adopt
 ion in the nonprofit sector is heading.</p>\n \n <
 h2>Who Should Attend</h2>\n \n <ul>\n 	<li>Nonprof
 it practitioners who have started experimenting wi
 th AI and want to go deeper</li>\n 	<li>Consultant
 s supporting nonprofits who want to compare notes 
 with peers</li>\n 	<li>Anyone who attended our AI 
 for Nonprofits webinars and is ready for hands-on 
 practice</li>\n 	<li>Nonprofit executives curious 
 about embedding AI into their team's daily work</l
 i>\n </ul>\n \n <h3> </h3></body></html>
DESCRIPTION:About This Workshop\n \n \n Our AI for Nonprofits 
 webinar (https://www.masadvise.org/services-financ
 e-and-info-tech/#ai) showed you what's possible. T
 his workshop is where you put it into practice. Jo
 in Management Advisory Services for a hands-on aft
 ernoon session with MAS consultants and fellow non
 profit practitioners — sharing what's working\, wh
 at's not\, and experimenting together with AI tool
 s in real nonprofit contexts.\n \n \n \n This is a
 n interactive\, participatory session. Come ready 
 to share your own experience and leave with practi
 cal techniques you can use immediately.  Bring a l
 aptop or your phone so you can try some prompts an
 d tools and get some hands on exprience.   If you 
 want to share documents like strategic plans\, mak
 e sure your device has access.\n \n \n \n Workshop
  Agenda\n \n \n AI in Strategic Planning and Fundr
 aising\n \n \n Presenter: Sue Pulfer\, MAS Consult
 ant\n \n \n \n Sue shares how she's integrating AI
  into strategic planning and fundraising projects 
 — with live examples and hands-on exercises partic
 ipants can try with their own work.\n \n \n \n \n 
 	AI-assisted SWOT analysis and environmental scann
 ing\n 	Drafting strategic plans and operational pl
 ans with AI support\n 	Hands-on exercise: bring a 
 planning challenge and work through it with AI\n \
 n \n AI in Fundraising and Internal Operations\n \
 n \n Presenter: Brian Flett\, MAS Consultant\n \n 
 \n \n Brian walks through how he has gone beyond j
 ust chatting with AI\, and has started to build AI
  Agents for doing background tasks like surveying 
 the internet for updates about prospective donors\
 , creating a daily summary of tasks\, meetings\, a
 nd news items\, and creating a weekly review of co
 urses and youtube videos that can help in keeping 
 up with the latest trends.\n \n \n \n \n 	Adding t
 ools to give AI access to calendars\, emails\, etc
 \n 	Adding skills to tell AI how to do complex rep
 eatable tasks\n 	Creating background jobs so AI ca
 n work autonomously\n \n \n Peer Sharing: What Are
  You Using AI For?\n \n \n A facilitated discussio
 n where participants share their own AI experiment
 s — what they've tried\, what surprised them\, and
  where they're stuck.\n \n \n \n Wrap-Up: What We'
 re Learning as a Sector\n \n \n Key takeaways\, em
 erging patterns\, and a look at where AI adoption 
 in the nonprofit sector is heading.\n \n \n \n Who
  Should Attend\n \n \n \n 	Nonprofit practitioners
  who have started experimenting with AI and want t
 o go deeper\n 	Consultants supporting nonprofits w
 ho want to compare notes with peers\n 	Anyone who 
 attended our AI for Nonprofits webinars and is rea
 dy for hands-on practice\n 	Nonprofit executives c
 urious about embedding AI into their team's daily 
 work\n \n \n  \n 
CATEGORIES:Workshop
CALSCALE:GREGORIAN
DTSTAMP;TZID=America/Toronto:20260604T153000
DTSTART;TZID=America/Toronto:20260604T153000
DTEND;TZID=America/Toronto:20260604T180000
LOCATION:227 Bloor Street East (St. Paul's Bloor Street)\n 
 Toronto\, ON M4W 1C8\n Canada\n 
URL:https://www.masadvise.org/civicrm/event/info/?reset=1&id=30
END:VEVENT
END:VCALENDAR
